BEGIN:VCALENDAR
VERSION:2.0
METHOD:PUBLISH
CALSCALE:GREGORIAN
PRODID:-//WordPress - MECv7.31.0//EN
X-ORIGINAL-URL:https://www.tsv-muenchingen.de/fussball/
X-WR-CALNAME:Abteilung Fußball
X-WR-CALDESC:TSV Münchingen
X-WR-TIMEZONE:Europe/Berlin
BEGIN:VTIMEZONE
TZID:Europe/Berlin
X-LIC-LOCATION:Europe/Berlin
BEGIN:DAYLIGHT
TZOFFSETFROM:+0100
TZOFFSETTO:+0200
TZNAME:CEST
DTSTART:20260329T030000
RRULE:FREQ=YEARLY;BYMONTH=03;BYDAY=-1SU
END:DAYLIGHT
BEGIN:STANDARD
TZOFFSETFROM:+0200
TZOFFSETTO:+0100
TZNAME:CET
DTSTART:20261025T020000
RRULE:FREQ=YEARLY;BYMONTH=10;BYDAY=4SU
END:STANDARD
END:VTIMEZONE
REFRESH-INTERVAL;VALUE=DURATION:PT1H
X-PUBLISHED-TTL:PT1H
X-MS-OLK-FORCEINSPECTOROPEN:TRUE
BEGIN:VEVENT
CLASS:PUBLIC
UID:MEC-f4e3ce3e7b581ff32e40968298ba013d@tsv-muenchingen.de
DTSTART;TZID=Europe/Berlin:20260710T170000
DTEND;TZID=Europe/Berlin:20260712T160000
DTSTAMP:20260116T170724Z
CREATED:20260116
LAST-MODIFIED:20260116
PRIORITY:5
SEQUENCE:1
TRANSP:OPAQUE
SUMMARY:Sportwoche 2026
DESCRIPTION:
URL:https://www.tsv-muenchingen.de/fussball/events/sportwoche-2026/
END:VEVENT
BEGIN:VEVENT
CLASS:PUBLIC
UID:MEC-d25a34b9c2a87db380ecd7f7115882ec@tsv-muenchingen.de
DTSTART;TZID=Europe/Berlin:20250629T100000
DTEND;TZID=Europe/Berlin:20250629T140000
DTSTAMP:20250508T164108Z
CREATED:20250508
LAST-MODIFIED:20250512
PRIORITY:5
SEQUENCE:2
TRANSP:OPAQUE
SUMMARY:TSV Ehrungsfeier
DESCRIPTION:
URL:https://www.tsv-muenchingen.de/fussball/events/tsv-ehrungsfeier/
LOCATION:Widdumhof Münchingen
END:VEVENT
BEGIN:VEVENT
CLASS:PUBLIC
UID:MEC-ac53fab47b547a0d47b77e424cf119ba@tsv-muenchingen.de
DTSTART;TZID=Europe/Berlin:20250627T000100
DTEND;TZID=Europe/Berlin:20250630T235900
DTSTAMP:20250508T164107Z
CREATED:20250508
LAST-MODIFIED:20250508
PRIORITY:5
SEQUENCE:0
TRANSP:OPAQUE
SUMMARY:Ausflug Frauen
DESCRIPTION:
URL:https://www.tsv-muenchingen.de/fussball/events/ausflug-frauen/
LOCATION:Mallorca, Balearen, Spanien
END:VEVENT
BEGIN:VEVENT
CLASS:PUBLIC
UID:MEC-d0cbf1a1aa1726784df15a81ead214f7@tsv-muenchingen.de
DTSTART;TZID=Europe/Berlin:20251207T000000
DTEND;TZID=Europe/Berlin:20251208T000000
DTSTAMP:20250508T164107Z
CREATED:20250508
LAST-MODIFIED:20250512
PRIORITY:5
SEQUENCE:1
TRANSP:OPAQUE
SUMMARY:Weihnachtssportfest der Jugend
DESCRIPTION:
URL:https://www.tsv-muenchingen.de/fussball/events/weihnachtssportfest-der-jugend/
LOCATION:Sporthalle Korntal-Münchingen, Kornwestheimer Str. 1, 70825 Korntal-Münchingen, Deutschland
END:VEVENT
BEGIN:VEVENT
CLASS:PUBLIC
UID:MEC-daea32adcae6abcb548134fa98f139f9@tsv-muenchingen.de
DTSTART;TZID=Europe/Berlin:20251109T000000
DTEND;TZID=Europe/Berlin:20251110T000000
DTSTAMP:20250508T164106Z
CREATED:20250508
LAST-MODIFIED:20250512
PRIORITY:5
SEQUENCE:1
TRANSP:OPAQUE
SUMMARY:Vereinsmeisterschaften Geräteturnen
DESCRIPTION:
URL:https://www.tsv-muenchingen.de/fussball/events/vereinsmeisterschaften-geraeteturnen/
LOCATION:Sporthalle Korntal-Münchingen, Kornwestheimer Str. 1, 70825 Korntal-Münchingen, Deutschland
END:VEVENT
BEGIN:VEVENT
CLASS:PUBLIC
UID:MEC-6fe6a8a6e6cb710584efc4af0c34ce50@tsv-muenchingen.de
DTSTART;TZID=Europe/Berlin:20251108T000000
DTEND;TZID=Europe/Berlin:20251109T000000
DTSTAMP:20250508T164106Z
CREATED:20250508
LAST-MODIFIED:20250512
PRIORITY:5
SEQUENCE:1
TRANSP:OPAQUE
SUMMARY:Tag des Kinderturnens
DESCRIPTION:
URL:https://www.tsv-muenchingen.de/fussball/events/tag-des-kinderturnens/
LOCATION:Sporthalle Korntal-Münchingen, Kornwestheimer Str. 1, 70825 Korntal-Münchingen, Deutschland
END:VEVENT
BEGIN:VEVENT
CLASS:PUBLIC
UID:MEC-80f24ef493982c552b6943f1411f7e2c@tsv-muenchingen.de
DTSTART;TZID=Europe/Berlin:20251011T000000
DTEND;TZID=Europe/Berlin:20251012T000000
DTSTAMP:20250508T164106Z
CREATED:20250508
LAST-MODIFIED:20250512
PRIORITY:5
SEQUENCE:1
TRANSP:OPAQUE
SUMMARY:Fitness und Vital Tag, Bierprobe Alkoholfrei
DESCRIPTION:
URL:https://www.tsv-muenchingen.de/fussball/events/fitness-und-vital-tag-bierprobe-alkoholfrei/
LOCATION:Sporthalle Korntal-Münchingen, Kornwestheimer Str. 1, 70825 Korntal-Münchingen, Deutschland
END:VEVENT
BEGIN:VEVENT
CLASS:PUBLIC
UID:MEC-3366297a637d4a3a358dfc6faad2fcf5@tsv-muenchingen.de
DTSTART;TZID=Europe/Berlin:20250719T000000
DTEND;TZID=Europe/Berlin:20250720T000000
DTSTAMP:20250508T164105Z
CREATED:20250508
LAST-MODIFIED:20250512
PRIORITY:5
SEQUENCE:1
TRANSP:OPAQUE
SUMMARY:Hofbräu Regiment / Kooperation MVM
DESCRIPTION:
URL:https://www.tsv-muenchingen.de/fussball/events/hofbraeu-regiment-kooperation-mvm/
END:VEVENT
BEGIN:VEVENT
CLASS:PUBLIC
UID:MEC-eab9c5e9815adc4c40a6557495eed6d3@tsv-muenchingen.de
DTSTART;TZID=Europe/Berlin:20250628T000000
DTEND;TZID=Europe/Berlin:20250629T000000
DTSTAMP:20250508T164104Z
CREATED:20250508
LAST-MODIFIED:20250512
PRIORITY:5
SEQUENCE:1
TRANSP:OPAQUE
SUMMARY:Beach Volleyball Event
DESCRIPTION:
URL:https://www.tsv-muenchingen.de/fussball/events/beach-volleyball-event/
LOCATION:TSV Münchingen (Volleyball) Kunstrasenplatz, Stuttgarter Str. 130, 70825 Korntal-Münchingen, Deutschland
END:VEVENT
BEGIN:VEVENT
CLASS:PUBLIC
UID:MEC-d3c95acb3f4a091abb1fdc056dc68c1c@tsv-muenchingen.de
DTSTART;TZID=Europe/Berlin:20250712T000100
DTEND;TZID=Europe/Berlin:20250713T235900
DTSTAMP:20250508T164104Z
CREATED:20250508
LAST-MODIFIED:20250508
PRIORITY:5
SEQUENCE:0
TRANSP:OPAQUE
SUMMARY:Gaukinderturnfest
DESCRIPTION:
URL:https://www.tsv-muenchingen.de/fussball/events/gaukinderturnfest/
LOCATION:TSV Münchingen, (Sporthalle+ Sportplatz/Rasen) Kornwestheimer Straße, 70825 Münchingen
END:VEVENT
BEGIN:VEVENT
CLASS:PUBLIC
UID:MEC-139c3c1b7ca46a9d4fd6d163d98af635@tsv-muenchingen.de
DTSTART;TZID=Europe/Berlin:20250704T170000
DTEND;TZID=Europe/Berlin:20250704T230000
DTSTAMP:20250508T164103Z
CREATED:20250508
LAST-MODIFIED:20250512
PRIORITY:5
SEQUENCE:1
TRANSP:OPAQUE
SUMMARY:Elfmeterturnier mit Barbetrieb und Musik
DESCRIPTION:
URL:https://www.tsv-muenchingen.de/fussball/events/elfmeterturnier-mit-barbetrieb-und-dj/
LOCATION:TSV Münchingen, Kornwestheimer Str. 15, 70825 Korntal-Münchingen, Deutschland
END:VEVENT
BEGIN:VEVENT
CLASS:PUBLIC
UID:MEC-18cdf49ea54eec029238fcc95f76ce41@tsv-muenchingen.de
DTSTART;TZID=Europe/Berlin:20250704T000100
DTEND;TZID=Europe/Berlin:20250706T235900
DTSTAMP:20250508T164103Z
CREATED:20250508
LAST-MODIFIED:20250508
PRIORITY:5
SEQUENCE:0
TRANSP:OPAQUE
SUMMARY:Sportwoche 2025 – Abteilung Turnen
DESCRIPTION:
URL:https://www.tsv-muenchingen.de/fussball/events/sportwoche-2025-abteilung-turnen/
LOCATION:TSV Münchingen, Kornwestheimer Str. 15, 70825 Korntal-Münchingen, Deutschland
END:VEVENT
BEGIN:VEVENT
CLASS:PUBLIC
UID:MEC-b0c7ae2316c7e8214fd659e4bc8a0dea@tsv-muenchingen.de
DTSTART;TZID=Europe/Berlin:20250628T000000
DTEND;TZID=Europe/Berlin:20250629T000000
DTSTAMP:20250508T164103Z
CREATED:20250508
LAST-MODIFIED:20250614
PRIORITY:5
SEQUENCE:1
TRANSP:OPAQUE
SUMMARY:Schachturnier
DESCRIPTION:
URL:https://www.tsv-muenchingen.de/fussball/events/schachturnier/
LOCATION:TSV Münchingen (Jugendraum) Kunstrasenplatz
END:VEVENT
BEGIN:VEVENT
CLASS:PUBLIC
UID:MEC-d2a452edff079ca6980edcf54cc49945@tsv-muenchingen.de
DTSTART;TZID=Europe/Berlin:20250601T000000
DTEND;TZID=Europe/Berlin:20250602T000000
DTSTAMP:20250508T164102Z
CREATED:20250508
LAST-MODIFIED:20250512
PRIORITY:5
SEQUENCE:1
TRANSP:OPAQUE
SUMMARY:Brettles-Turnier im Tischtennis
DESCRIPTION:
URL:https://www.tsv-muenchingen.de/fussball/events/brettles-turnier-im-tischtennis/
LOCATION:Sporthalle Korntal-Münchingen, Kornwestheimer Str. 1, 70825 Korntal-Münchingen, Deutschland
END:VEVENT
BEGIN:VEVENT
CLASS:PUBLIC
UID:MEC-853bb47a93581ead37b1bcd749d34787@tsv-muenchingen.de
DTSTART;TZID=Europe/Berlin:20250517T000100
DTEND;TZID=Europe/Berlin:20250518T235900
DTSTAMP:20250508T164102Z
CREATED:20250508
LAST-MODIFIED:20250508
PRIORITY:5
SEQUENCE:0
TRANSP:OPAQUE
SUMMARY:Stadtlauf / Hoba Fescht
DESCRIPTION:
URL:https://www.tsv-muenchingen.de/fussball/events/stadtlauf-hoba-fescht/
LOCATION:Stuttgarter Straße, Stuttgarter Str., 70825 Korntal-Münchingen-Münchingen, Deutschland
END:VEVENT
BEGIN:VEVENT
CLASS:PUBLIC
UID:MEC-d02e9bdc27a894e882fa0c9055c99722@tsv-muenchingen.de
DTSTART;TZID=Europe/Berlin:20250518T000000
DTEND;TZID=Europe/Berlin:20250519T000000
DTSTAMP:20250508T164101Z
CREATED:20250508
LAST-MODIFIED:20250512
PRIORITY:5
SEQUENCE:1
TRANSP:OPAQUE
SUMMARY:Vereinsmeisterschaften  im Tischtennis
DESCRIPTION:
URL:https://www.tsv-muenchingen.de/fussball/events/vereinsmeisterschaften-im-tischtennis/
LOCATION:Sporthalle Korntal-Münchingen, Kornwestheimer Str. 1, 70825 Korntal-Münchingen, Deutschland
END:VEVENT
BEGIN:VEVENT
CLASS:PUBLIC
UID:MEC-5de8a36008b04a6167761fa19b61aa6c@tsv-muenchingen.de
DTSTART;TZID=Europe/Berlin:20250705T183000
DTEND;TZID=Europe/Berlin:20250705T220000
DTSTAMP:20250508T164059Z
CREATED:20250508
LAST-MODIFIED:20250508
PRIORITY:5
SEQUENCE:0
TRANSP:OPAQUE
SUMMARY:Live-Band mit Barbetrieb
DESCRIPTION:
URL:https://www.tsv-muenchingen.de/fussball/events/live-band-mit-barbetrieb/
LOCATION:TSV Münchingen, Kornwestheimer Str. 15, 70825 Korntal-Münchingen, Deutschland
END:VEVENT
BEGIN:VEVENT
CLASS:PUBLIC
UID:MEC-4efb80f630ccecb2d3b9b2087b0f9c89@tsv-muenchingen.de
DTSTART;TZID=Europe/Berlin:20250706T090000
DTEND;TZID=Europe/Berlin:20250706T160000
DTSTAMP:20250508T164059Z
CREATED:20250508
LAST-MODIFIED:20250508
PRIORITY:5
SEQUENCE:0
TRANSP:OPAQUE
SUMMARY:Strohgäu Cup
DESCRIPTION:
URL:https://www.tsv-muenchingen.de/fussball/events/strohgaeu-cup-2/
LOCATION:TSV Münchingen, Kornwestheimer Str. 15, 70825 Korntal-Münchingen, Deutschland
END:VEVENT
BEGIN:VEVENT
CLASS:PUBLIC
UID:MEC-73f715c6cc2b110fc67503ba813f7f0e@tsv-muenchingen.de
DTSTART;TZID=Europe/Berlin:20250705T090000
DTEND;TZID=Europe/Berlin:20250705T180000
DTSTAMP:20250508T164058Z
CREATED:20250508
LAST-MODIFIED:20250508
PRIORITY:5
SEQUENCE:0
TRANSP:OPAQUE
SUMMARY:Strohgäu Cup
DESCRIPTION:
URL:https://www.tsv-muenchingen.de/fussball/events/strohgaeu-cup/
LOCATION:TSV Münchingen, Kornwestheimer Str. 15, 70825 Korntal-Münchingen, Deutschland
END:VEVENT
END:VCALENDAR
